BEGIN:VCALENDAR
VERSION:2.0
PRODID:-//Wijk de Laar - ECPv6.15.13.1//NONSGML v1.0//EN
CALSCALE:GREGORIAN
METHOD:PUBLISH
X-ORIGINAL-URL:https://wijkdelaar.nl
X-WR-CALDESC:Evenementen voor Wijk de Laar
REFRESH-INTERVAL;VALUE=DURATION:PT1H
X-Robots-Tag:noindex
X-PUBLISHED-TTL:PT1H
BEGIN:VTIMEZONE
TZID:UTC
BEGIN:STANDARD
TZOFFSETFROM:+0000
TZOFFSETTO:+0000
TZNAME:UTC
DTSTART:20230101T000000
END:STANDARD
END:VTIMEZONE
BEGIN:VEVENT
DTSTART;TZID=UTC:20240622T173000
DTEND;TZID=UTC:20240622T193000
DTSTAMP:20260420T171056
CREATED:20240516T103217Z
LAST-MODIFIED:20240604T114520Z
UID:10000020-1719077400-1719084600@wijkdelaar.nl
SUMMARY:Kennismakingsbijeenkomst kookgroep Rozet in De Laar!
DESCRIPTION:Kom naar de kookgroep bij Rozet in De Laar!\nVind je het leuk om te koken en je ervaring met anderen te delen? Kom dan bij de kookgroep van Rozet in De Laar in samenwerking met Vitanos! \nOp zaterdag 22 juni kan je binnenlopen vanaf 17.30 uur en gaan we van start om 17:30 uur. \nDie dag houden we een kennismakingsbijeenkomst. Hier overleggen we met elkaar op welke zaterdag in de maand we\nbij elkaar komen en welke randvoorwaarden daarbij horen. \nDe kookgroep is er voor alle leeftijden\, iedereen is dan ook van harte uitgenodigd. Kan je niet op deze\ndag? Meld je toch vooral aan\, dan kijken we samen naar de opties. Mail hiervoor naar nevena.banse@rozet.nl
URL:https://wijkdelaar.nl/event/kennismakingsbijeenkomst-kookclub/
LOCATION:Rozetje de Laar\, Brabantweg 105\, Arnhem\, 6844 GA\, Nederland
CATEGORIES:Voor iedereen
ATTACH;FMTTYPE=image/jpeg:https://wijkdelaar.nl/wp-content/uploads/2024/05/Rozet-de-Laar-Kookgroep-22-juni-2024-Thumbnail-EDIT.jpg
END:VEVENT
BEGIN:VEVENT
DTSTART;TZID=UTC:20240522T090000
DTEND;TZID=UTC:20240523T173000
DTSTAMP:20260420T171056
CREATED:20240521T180816Z
LAST-MODIFIED:20240521T180816Z
UID:10000021-1716368400-1716485400@wijkdelaar.nl
SUMMARY:Wijkbijeenkomst
DESCRIPTION:Kom ook naar de wijkbijeenkomst!\nmdjfsjgfskfuehfklejgisjf senfjsj eW CWEJFIO Wehf eaergre \nkhefrghrh bhucihrantf
URL:https://wijkdelaar.nl/event/wijkbijeenkomst/
LOCATION:Rozetje de Laar\, Brabantweg 105\, Arnhem\, 6844 GA\, Nederland
CATEGORIES:Voor iedereen
ATTACH;FMTTYPE=image/jpeg:https://wijkdelaar.nl/wp-content/uploads/2024/05/TEST-EVENT.jpg
END:VEVENT
BEGIN:VEVENT
DTSTART;TZID=UTC:20240518T110000
DTEND;TZID=UTC:20240518T163000
DTSTAMP:20260420T171056
CREATED:20240508T154513Z
LAST-MODIFIED:20240508T154513Z
UID:10000017-1716030000-1716049800@wijkdelaar.nl
SUMMARY:Workshop voor het grote kunstboek (Atelierroute)
DESCRIPTION:Werk je mee aan het grote kunstboek tijdens de atelierroute in De Laar? \nHallo mijn naam is Saskia en zaterdag 18 mei tijdens de atelierroute in De Laar geef ik een workshop bij de bibliotheek het Rozetje (sommige van jullie kennen mij misschien wel van het project prentenboek maken bij talentatelier en/of KidzOnly). Schuif jij ook aan tussen 11 en half 5? \nTijdens deze workshop gaan we fantasiedieren knippen\, we gaan picknickkleedjes maken\, kunstwerken drukken\, woorden stempelen\, verhalen en gedichten schrijven. \nAlle kunstwerken en verhalen die deze dag ontstaan worden samengebundeld tot een boek.\nEn dit kunstboek krijgt na afloop een mooie plaats in het Rozetje! \nZo kan iedereen jouw werk in de bibliotheek komen bewonderen!
URL:https://wijkdelaar.nl/event/workshop-voor-het-grote-kunstboek-atelierroute/
LOCATION:Rozetje de Laar\, Brabantweg 105\, Arnhem\, 6844 GA\, Nederland
ATTACH;FMTTYPE=image/jpeg:https://wijkdelaar.nl/wp-content/uploads/2024/05/grote-kunstboek-workshop.jpg
END:VEVENT
BEGIN:VEVENT
DTSTART;TZID=UTC:20240518T103000
DTEND;TZID=UTC:20240519T170000
DTSTAMP:20260420T171056
CREATED:20240514T084312Z
LAST-MODIFIED:20240514T084605Z
UID:10000019-1716028200-1716138000@wijkdelaar.nl
SUMMARY:Atelierroute
DESCRIPTION:ATELIERROUTE DE LAAR\nZATERDAG 18 & ZONDAG 19 MEI\nVAN 11:00 TOT 17:00 UUR\nVoor de derde keer organiseert de Kunst en Cultuur Groep de Laar een atelierroute voor en door de Laar.\n21 kunstenaars exposeren vanuit hun eigen atelier\, Sporthal De Laar en De Laarhof. \n\nIn de sporthal hebben we dit jaar\, naast 13 kunstenaars uit onze wijk\, ook Atelier 23 uit Schuytgraaf te gast met z.g. Art Brute.\nIn het Rozetje\, links naast de sporthal\, tonen kinderen van de basisschool nieuwe diersoorten van klei. Deze\nzijn gemaakt o.l.v. kunstenaar Esther de Jong verbonden aan KidzOnly.\nVerder is er in de “Huiskamer van de wijk” De Laarhof\, werkstukken te zien gemaakt door buurtbewoners tijdens workshops aldaar.\n\nDe officiële opening van de Atelierroute vindt plaats in het Rozetje op zaterdag 18 mei om 10.30 uur in samenwerking met de Jongeren van Power Plug. Een overzichtstentoonstelling met werk van alle deelnemers is te zien in De\nLaarhof\, achter de sporthal De Laar\, en is daarmee het startpunt van de atelierroute. \nLocatie: het ROZETJE ingang naast de sporthal Brabantweg 115 \nBekijk hier de flyer! \n 
URL:https://wijkdelaar.nl/event/atelierroute/
LOCATION:Rozetje de Laar\, Brabantweg 105\, Arnhem\, 6844 GA\, Nederland
CATEGORIES:Voor iedereen
ATTACH;FMTTYPE=image/png:https://wijkdelaar.nl/wp-content/uploads/2024/05/atelierroute.png
END:VEVENT
BEGIN:VEVENT
DTSTART;TZID=UTC:20240514T193000
DTEND;TZID=UTC:20240514T210000
DTSTAMP:20260420T171056
CREATED:20240513T170126Z
LAST-MODIFIED:20240513T170254Z
UID:10000018-1715715000-1715720400@wijkdelaar.nl
SUMMARY:Kledingruilavond
DESCRIPTION:Kom naar de Kledingruilavond bij Rozet in De Laar!\nIn het kader van duurzaamheid en gezelligheid houdt Rozet in De Laar op dinsdagavond 14 mei een kledingruilavond voor vrouwenkleding! \nHoe werkt het?\nWaarom nieuwe kleding kopen\, als je ook kan ruilen? Tijdens deze kledingruilavond\nkan je als deelnemer minimaal 2 tot 8 kledingstukken voor vrouwen in alle maten\ninbrengen. Als er iets van jouw gading bijzit\, mag je hetzelfde aantal items die\navond gratis meenemen. Tijdens de avond krijg je uiteraard de gelegenheid om de\nkledingstukken te passen. \nWat zijn de voorwaarden??\nDe kleding en het schoeisel dat je in kunt brengen moeten aan enkele voorwaarden voldoen. Zo moeten\nde items schoon-\, heel- en niet versleten zijn. Meedoen is kosteloos\, en er is gratis koffie en thee. Meld je echter\nwel even aan! Er zit een maximum aan het aantal deelnemers\, dus geef je nog snel op door te mailen naar karlijn.mulder@rozet.nl.
URL:https://wijkdelaar.nl/event/kledingruilavond/
LOCATION:Rozetje de Laar\, Brabantweg 105\, Arnhem\, 6844 GA\, Nederland
ATTACH;FMTTYPE=image/jpeg:https://wijkdelaar.nl/wp-content/uploads/2024/05/kledingruilavond.jpg
END:VEVENT
END:VCALENDAR