BEGIN:VCALENDAR
VERSION:2.0
PRODID:-//Wijk de Laar - ECPv6.15.13.1//NONSGML v1.0//EN
CALSCALE:GREGORIAN
METHOD:PUBLISH
X-ORIGINAL-URL:https://wijkdelaar.nl
X-WR-CALDESC:Evenementen voor Wijk de Laar
REFRESH-INTERVAL;VALUE=DURATION:PT1H
X-Robots-Tag:noindex
X-PUBLISHED-TTL:PT1H
BEGIN:VTIMEZONE
TZID:UTC
BEGIN:STANDARD
TZOFFSETFROM:+0000
TZOFFSETTO:+0000
TZNAME:UTC
DTSTART:20240101T000000
END:STANDARD
END:VTIMEZONE
BEGIN:VEVENT
DTSTART;TZID=UTC:20250830T110000
DTEND;TZID=UTC:20250830T160000
DTSTAMP:20260421T051234
CREATED:20250813T191243Z
LAST-MODIFIED:20250813T191929Z
UID:10000038-1756551600-1756569600@wijkdelaar.nl
SUMMARY:Dag van De Laar 2025
DESCRIPTION:Dit jaar is Dag van De Laar op 30 augustus 2025\, bij en rondom Sportcentrum De Laar\, Brabantweg 115. \nActiviteiten van wijkvereniging De Laar zijn o.a. : Oud-Hollandse spelen en knopen raden\, Enveloppenspel met veel mooie prijzen\, Volwassenenbingo en kinderbingo\, Workshop bloemstuk maken\, Tom & Jerry komen ook even langs\, Springkussen\, En: de grote roofvogelshow\, aanvang 14.00 uur. \nHierbij wordt u verzocht de honden aan de lijn te houden. En ook geen honden uitlaten in die tijd a.u.b.! \nVerder zijn er allerlei activiteiten door o.a. de Kunst- en Cultuurgroep\, Rijnstad\, Sportbedrijf Arnhem\, Motion\, zoals: kleedjesmarkt voor kinderen tot 12 jaar\, zumbalessen voor volwassenen\, pumptrack activiteit enz. \nVeel plezier!
URL:https://wijkdelaar.nl/event/dag-van-de-laar-2025/
LOCATION:Sportkantine De Laar West\, Brabantweg 115\, Arnhem\, Gelderland\, 6844 GA\, Nederland
CATEGORIES:Voor iedereen
END:VEVENT
END:VCALENDAR