BEGIN:VCALENDAR
VERSION:2.0
PRODID:-//Wijk de Laar - ECPv6.15.13.1//NONSGML v1.0//EN
CALSCALE:GREGORIAN
METHOD:PUBLISH
X-WR-CALNAME:Wijk de Laar
X-ORIGINAL-URL:https://wijkdelaar.nl
X-WR-CALDESC:Evenementen voor Wijk de Laar
REFRESH-INTERVAL;VALUE=DURATION:PT1H
X-Robots-Tag:noindex
X-PUBLISHED-TTL:PT1H
BEGIN:VTIMEZONE
TZID:UTC
BEGIN:STANDARD
TZOFFSETFROM:+0000
TZOFFSETTO:+0000
TZNAME:UTC
DTSTART:20230101T000000
END:STANDARD
END:VTIMEZONE
BEGIN:VEVENT
DTSTART;TZID=UTC:20240427T103000
DTEND;TZID=UTC:20240427T163000
DTSTAMP:20260424T105721
CREATED:20240112T130938Z
LAST-MODIFIED:20240204T155426Z
UID:10000005-1714213800-1714235400@wijkdelaar.nl
SUMMARY:Koningsdag
DESCRIPTION:Feest rondom de boerderij en rommelmarkt\n10.30 – 16.30 uur; \nKraamverhuur rommelmarkt Koningsdag \nAl jaren organiseert wijkvereniging De Oostelaar een zeer succesvolle Koningsdag. Allerlei leuke kinderattracties in en om boerderij De Kroon\, met ruim 100 marktkramen met allerhande spullen in het aangrenzende Bingelradepark. \nEen kraam huren kost € 22\,50 en de borg bedraagt € 10\,00. De reserveringen voor de marktkramen verlopen nog via de webwinkel op onze (oude) website www.oostelaar.nl en de betaling via iDEAL. Het is niet mogelijk om contant te betalen. \nVanaf 17 februari kunt u via onze webwinkel de marktkraam online bestellen en betalen (huurprijs inclusief borg). Na ontvangst van uw betaling krijgt u een e-mailbevestiging\, inclusief de voorwaarden (deze staan op onze website). Op de dag zelf wordt u ontvangen door de marktmeester\, die u uw plek aan zal wijzen. Na afloop\, als alles verder goed is gegaan\, ontvangt u binnen 14 dagen per bank uw borg terug. \nMensen\, die in het bezit van een invalidenkaart zijn\, kunnen desgewenst één plek reserveren op het bestrate deel van het circuit; wij vragen u dan een kopie van de voor- en achterkant van de kaart te mailen. Hiervoor houden wij maximaal tien plekken beschikbaar. \nHeeft u nog vragen met betrekking tot de kraamverhuur? \nLaat het ons dan weten via e-mail: marktkraamoostelaar@gmail.com . Verdere invulling van het programma op Koningsdag\, zaterdag 27 april\, komt in Laarnieuws no. 2 te staan.
URL:https://wijkdelaar.nl/event/koningsdag/
LOCATION:Boerderij de Kroon\, Randweg 2
CATEGORIES:Voor iedereen
ATTACH;FMTTYPE=image/jpeg:https://wijkdelaar.nl/wp-content/uploads/2024/01/Koningsdag-1.jpg
END:VEVENT
END:VCALENDAR