BEGIN:VCALENDAR
VERSION:2.0
PRODID:-//Wijk de Laar - ECPv6.15.13.1//NONSGML v1.0//EN
CALSCALE:GREGORIAN
METHOD:PUBLISH
X-WR-CALNAME:Wijk de Laar
X-ORIGINAL-URL:https://wijkdelaar.nl
X-WR-CALDESC:Evenementen voor Wijk de Laar
REFRESH-INTERVAL;VALUE=DURATION:PT1H
X-Robots-Tag:noindex
X-PUBLISHED-TTL:PT1H
BEGIN:VTIMEZONE
TZID:UTC
BEGIN:STANDARD
TZOFFSETFROM:+0000
TZOFFSETTO:+0000
TZNAME:UTC
DTSTART:20230101T000000
END:STANDARD
END:VTIMEZONE
BEGIN:VEVENT
DTSTART;VALUE=DATE:20240824
DTEND;VALUE=DATE:20240825
DTSTAMP:20260424T035225
CREATED:20240529T231018Z
LAST-MODIFIED:20240529T231018Z
UID:10000022-1724457600-1724543999@wijkdelaar.nl
SUMMARY:Dag van de Laar
DESCRIPTION:Omdat de wijk De Laar 50 jaar is vieren we samen feest van maart tot en met september. Samen met inwoners\, vrijwilligers\, wijkpartners en de gemeente is een geweldig jubileum-programma gemaakt. Het feest is pas echt compleet als jij erbij bent!
URL:https://wijkdelaar.nl/event/dag-van-de-laar/
CATEGORIES:Voor iedereen
ATTACH;FMTTYPE=image/jpeg:https://wijkdelaar.nl/wp-content/uploads/2024/05/50-jaar-De-Laar.jpg
END:VEVENT
END:VCALENDAR