BEGIN:VCALENDAR
VERSION:2.0
PRODID:-//Wijk de Laar - ECPv6.15.13.1//NONSGML v1.0//EN
CALSCALE:GREGORIAN
METHOD:PUBLISH
X-WR-CALNAME:Wijk de Laar
X-ORIGINAL-URL:https://wijkdelaar.nl
X-WR-CALDESC:Evenementen voor Wijk de Laar
REFRESH-INTERVAL;VALUE=DURATION:PT1H
X-Robots-Tag:noindex
X-PUBLISHED-TTL:PT1H
BEGIN:VTIMEZONE
TZID:UTC
BEGIN:STANDARD
TZOFFSETFROM:+0000
TZOFFSETTO:+0000
TZNAME:UTC
DTSTART:20250101T000000
END:STANDARD
END:VTIMEZONE
BEGIN:VEVENT
DTSTART;TZID=UTC:20260427T103000
DTEND;TZID=UTC:20260427T163000
DTSTAMP:20260420T045125
CREATED:20260208T153227Z
LAST-MODIFIED:20260208T153845Z
UID:10000046-1777285800-1777307400@wijkdelaar.nl
SUMMARY:Koningsdag 27 april 2026
DESCRIPTION:Van 10.30 tot 16.30 uur organiseert Wijkvereniging De Laar op maandag 27 april\, volop activiteiten op en rondom het terrein van Boerderij De Kroon. \nDe huurprijs voor een kraam bedraagt € 25 plus € 10\,- borg. De borg wordt binnen 14 dagen terugbetaald als alle badges na afloop ingeleverd zijn.\nHuur een kraam via: https://wijkdelaar.nl/product/koningsdag-kraam/\nLees hier de voorwaarden: https://wijkdelaar.nl/wp-content/uploads/2026/02/Voorwaarden-kraamverhuur-2026.pdf \n  \n \n 
URL:https://wijkdelaar.nl/event/koningsdag-27-april-2026/
LOCATION:Boerderij de Kroon\, Randweg 2
ATTACH;FMTTYPE=image/jpeg:https://wijkdelaar.nl/wp-content/uploads/2026/02/20250426_142358-scaled.jpg
END:VEVENT
END:VCALENDAR