BEGIN:VCALENDAR
VERSION:2.0
PRODID:-//Wijk de Laar - ECPv6.15.13.1//NONSGML v1.0//EN
CALSCALE:GREGORIAN
METHOD:PUBLISH
X-WR-CALNAME:Wijk de Laar
X-ORIGINAL-URL:https://wijkdelaar.nl
X-WR-CALDESC:Evenementen voor Wijk de Laar
REFRESH-INTERVAL;VALUE=DURATION:PT1H
X-Robots-Tag:noindex
X-PUBLISHED-TTL:PT1H
BEGIN:VTIMEZONE
TZID:UTC
BEGIN:STANDARD
TZOFFSETFROM:+0000
TZOFFSETTO:+0000
TZNAME:UTC
DTSTART:20220101T000000
END:STANDARD
END:VTIMEZONE
BEGIN:VEVENT
DTSTART;TZID=UTC:20231218T000000
DTEND;TZID=UTC:20231231T000000
DTSTAMP:20260420T222728
CREATED:20231124T105524Z
LAST-MODIFIED:20231124T124506Z
UID:10000003-1702857600-1703980800@wijkdelaar.nl
SUMMARY:Vakantieprogramma
DESCRIPTION:Het is weer bijna vakantie\, dus we gaan weer leuke dingen doen! \nBekijk hier het programma. Heb je zin om mee te doen? Meld je dan aan!
URL:https://wijkdelaar.nl/event/vakantieprogramma/
LOCATION:Gelderland
CATEGORIES:Voor jongeren
ATTACH;FMTTYPE=image/jpeg:https://wijkdelaar.nl/wp-content/uploads/2023/11/VAKANTIEPROGRAMMA.jpg
END:VEVENT
BEGIN:VEVENT
DTSTART;TZID=UTC:20231211T200000
DTEND;TZID=UTC:20231211T230000
DTSTAMP:20260420T222729
CREATED:20231017T135618Z
LAST-MODIFIED:20231124T124548Z
UID:10000001-1702324800-1702335600@wijkdelaar.nl
SUMMARY:Pupquiz
DESCRIPTION:Zin in een gezellig avondje met vrienden\, buren of familie? Wat dacht je van een Pub quiz? Voor iedereen leuk! Weet jij bijvoorbeeld echt niets van sport\, maar een teamgenoot wel. En weet jij juist bij de eerste noot al welk liedje gedraaid wordt? Dan komt het helemaal goed! \nBij Boerderij de Kroon organiseren wij dit jaar weer een legendarische pupquiz! Doe ook mee\, je kunt je individueel opgeven óf met een heel team tot max 6 personen. \n 
URL:https://wijkdelaar.nl/event/pupquiz/
LOCATION:Boerderij de Kroon\, Randweg 2
CATEGORIES:Voor iedereen
ATTACH;FMTTYPE=image/jpeg:https://wijkdelaar.nl/wp-content/uploads/2023/11/VAKANTIEPROGRAMMA-1.jpg
END:VEVENT
END:VCALENDAR