BEGIN:VCALENDAR
VERSION:2.0
PRODID:-//Wijk de Laar - ECPv6.15.13.1//NONSGML v1.0//EN
CALSCALE:GREGORIAN
METHOD:PUBLISH
X-WR-CALNAME:Wijk de Laar
X-ORIGINAL-URL:https://wijkdelaar.nl
X-WR-CALDESC:Evenementen voor Wijk de Laar
REFRESH-INTERVAL;VALUE=DURATION:PT1H
X-Robots-Tag:noindex
X-PUBLISHED-TTL:PT1H
BEGIN:VTIMEZONE
TZID:UTC
BEGIN:STANDARD
TZOFFSETFROM:+0000
TZOFFSETTO:+0000
TZNAME:UTC
DTSTART:20230101T000000
END:STANDARD
END:VTIMEZONE
BEGIN:VEVENT
DTSTART;TZID=UTC:20240613T103000
DTEND;TZID=UTC:20240613T120000
DTSTAMP:20260420T184058
CREATED:20240530T061120Z
LAST-MODIFIED:20240530T061343Z
UID:10000023-1718274600-1718280000@wijkdelaar.nl
SUMMARY:Kunstcafé De Laar
DESCRIPTION:Dit keer met: “De Verhalensalon”\nVerzorgd door Josée Algra. Een interactieve ochtend over beeld en tekst. \nWat taal met je doet\nLezer of geen lezer\, bijna iedereen kent wel een tekst\, gedicht of een verhaal/boek dat het hart heeft geraakt; waar je boos\, blij\, ontroerd of verdrietig van wordt. Neem het mee; dat mooie gedichtje\, dat mag ook uit je vergeelde poëziealbum van vroeger zijn; dat indringende fragment uit een liedje of uit een verhaal; die column waar je warm van wordt. Voel je vrij om het zelf voor te lezen en te vertellen waarom je voor dit stukje hebt gekozen. Zit er een herinnering aan vast? Heeft de tekst een speciale betekenis voor je? \nNiet iedere tekst zal altijd dezelfde emotie oproepen. Als we de tekst loskoppelen van de persoonlijke ervaring\, kunnen we met elkaar de woorden bekijken en van gedachten wisselen waarom ze je raken of niet. En neem een pen mee! Zelf stoeien met woorden kan heel leuk zijn. \nLijkt u dat ook interessant? U bent van harte welkom. \nLocatie: Sporthal De Laar\, Brabantweg 115 \nToegang gratis\, koffie / thee vrijwillige bijdrage \nMet vriendelijke groet\, Jelleke Bakker en Christa van der Meer
URL:https://wijkdelaar.nl/event/kunstcafe-de-laar-2/
LOCATION:Sportkantine De Laar West\, Brabantweg 115\, Arnhem\, Gelderland\, 6844 GA\, Nederland
ATTACH;FMTTYPE=image/jpeg:https://wijkdelaar.nl/wp-content/uploads/2024/05/Kunstcafe.jpg
END:VEVENT
BEGIN:VEVENT
DTSTART;TZID=UTC:20240518T103000
DTEND;TZID=UTC:20240519T170000
DTSTAMP:20260420T184058
CREATED:20240514T084312Z
LAST-MODIFIED:20240514T084605Z
UID:10000019-1716028200-1716138000@wijkdelaar.nl
SUMMARY:Atelierroute
DESCRIPTION:ATELIERROUTE DE LAAR\nZATERDAG 18 & ZONDAG 19 MEI\nVAN 11:00 TOT 17:00 UUR\nVoor de derde keer organiseert de Kunst en Cultuur Groep de Laar een atelierroute voor en door de Laar.\n21 kunstenaars exposeren vanuit hun eigen atelier\, Sporthal De Laar en De Laarhof. \n\nIn de sporthal hebben we dit jaar\, naast 13 kunstenaars uit onze wijk\, ook Atelier 23 uit Schuytgraaf te gast met z.g. Art Brute.\nIn het Rozetje\, links naast de sporthal\, tonen kinderen van de basisschool nieuwe diersoorten van klei. Deze\nzijn gemaakt o.l.v. kunstenaar Esther de Jong verbonden aan KidzOnly.\nVerder is er in de “Huiskamer van de wijk” De Laarhof\, werkstukken te zien gemaakt door buurtbewoners tijdens workshops aldaar.\n\nDe officiële opening van de Atelierroute vindt plaats in het Rozetje op zaterdag 18 mei om 10.30 uur in samenwerking met de Jongeren van Power Plug. Een overzichtstentoonstelling met werk van alle deelnemers is te zien in De\nLaarhof\, achter de sporthal De Laar\, en is daarmee het startpunt van de atelierroute. \nLocatie: het ROZETJE ingang naast de sporthal Brabantweg 115 \nBekijk hier de flyer! \n 
URL:https://wijkdelaar.nl/event/atelierroute/
LOCATION:Rozetje de Laar\, Brabantweg 105\, Arnhem\, 6844 GA\, Nederland
CATEGORIES:Voor iedereen
ATTACH;FMTTYPE=image/png:https://wijkdelaar.nl/wp-content/uploads/2024/05/atelierroute.png
END:VEVENT
BEGIN:VEVENT
DTSTART;TZID=UTC:20240314T103000
DTEND;TZID=UTC:20240314T120000
DTSTAMP:20260420T184058
CREATED:20240226T171251Z
LAST-MODIFIED:20240226T171502Z
UID:10000013-1710412200-1710417600@wijkdelaar.nl
SUMMARY:Kunstcafé De Laar
DESCRIPTION:Kunstcafé De Laar\, donderdag 14 maart \nOnderwerp: Met de trekschuit van Arnhem naar Nijmegen\nMuziek: Hans Langbroek\, piano & Tyco Ferwerda\, cello \nPraktische informatie\nDatum: donderdag 14 maart 2024\nTijd: 10.30 – 12.00 uur\, inloop vanaf 10.00 tot 10.30\nLocatie: Sporthal De Laar\, Brabantweg 115\nKosten: Gratis toegang\, koffie/ thee vrijwillige bijdrage! \nHistorische Kring Elden weet er meer over!\nEr is nog maar weinig zichtbaar van de Grift\, de voormalige trekvaart van Arnhem naar Nijmegen. Dit historische project kwam tot stand rond 1610 tijdens het Twaalfjarig Bestand in de Tachtigjarige Oorlog. Het jaagpad langs het kanaal heeft zich na het einde van het gebruik in 1740 ontwikkeld tot een belangrijke verbindingsweg tussen Arnhem en Nijmegen. De trekvaart liep van de Praets naar Elden\, via de Laar naar Elst en vervolgens naar Lent. De Grift is de eerste gegraven trekvaart in Nederland\, met een geregelde dagelijkse verbinding tussen beide steden. Over de geschiedenis van de Grift en wat er nog van in het landschap zichtbaar is geeft voorzitter Geert Visser van de Historische Kring Elden een presentatie in het Kunstcafé De Laar. \nTijdens dit Kunstcafé zal ook aandacht worden besteed aan de lancering van de nieuwe kunst & cultuurroute in De Laar. Wijk wethouder Mark Lauriks zal hierbij aanwezig zijn.
URL:https://wijkdelaar.nl/event/kunstcafe-de-laar/
CATEGORIES:Voor iedereen
ATTACH;FMTTYPE=image/jpeg:https://wijkdelaar.nl/wp-content/uploads/2024/02/kunstcafe-de-laar.jpg
END:VEVENT
END:VCALENDAR